BEGIN:VCALENDAR
VERSION:2.0
PRODID:-//Tintabulations Handbell Ensemble - ECPv6.15.17.1//NONSGML v1.0//EN
CALSCALE:GREGORIAN
METHOD:PUBLISH
X-ORIGINAL-URL:https://tintabulations.com
X-WR-CALDESC:Events for Tintabulations Handbell Ensemble
REFRESH-INTERVAL;VALUE=DURATION:PT1H
X-Robots-Tag:noindex
X-PUBLISHED-TTL:PT1H
BEGIN:VTIMEZONE
TZID:America/Los_Angeles
BEGIN:DAYLIGHT
TZOFFSETFROM:-0800
TZOFFSETTO:-0700
TZNAME:PDT
DTSTART:20230312T100000
END:DAYLIGHT
BEGIN:STANDARD
TZOFFSETFROM:-0700
TZOFFSETTO:-0800
TZNAME:PST
DTSTART:20231105T090000
END:STANDARD
BEGIN:DAYLIGHT
TZOFFSETFROM:-0800
TZOFFSETTO:-0700
TZNAME:PDT
DTSTART:20240310T100000
END:DAYLIGHT
BEGIN:STANDARD
TZOFFSETFROM:-0700
TZOFFSETTO:-0800
TZNAME:PST
DTSTART:20241103T090000
END:STANDARD
BEGIN:DAYLIGHT
TZOFFSETFROM:-0800
TZOFFSETTO:-0700
TZNAME:PDT
DTSTART:20250309T100000
END:DAYLIGHT
BEGIN:STANDARD
TZOFFSETFROM:-0700
TZOFFSETTO:-0800
TZNAME:PST
DTSTART:20251102T090000
END:STANDARD
END:VTIMEZONE
BEGIN:VEVENT
DTSTART;TZID=America/Los_Angeles:20241208T190000
DTEND;TZID=America/Los_Angeles:20241208T190000
DTSTAMP:20260425T041640
CREATED:20241125T030448Z
LAST-MODIFIED:20241125T030448Z
UID:2645-1733684400-1733684400@tintabulations.com
SUMMARY:Sparks\, NV concert
DESCRIPTION:Tintabulations\, a community handbell ensemble in Reno\, Nevada\, presents their winter concert of holiday stories and music. \nThe concert\, entitled “O Biggest Little Town\,” presents modern arrangements of classic holiday songs performed on handbells. Enthralling audiences near and far for over two decades\, Reno’s own Tintabulations Handbell Ensemble is comprised of passionate musicians focused on innovating the art of handbell performance and educational outreach. With a flash of glittering bronze\, Tintabulations delivers the highest quality music and a visual feast for the eyes. Woven through the concert are personal holiday stories from group members\, helping to get the audience into the winter spirit. \nAll concerts are family-friendly and free admission!
URL:https://tintabulations.com/event/sparks-nv-concert/
LOCATION:Sparks United Methodist Church\, 1231 Pyramid Way\, Sparks\, NV\, 89431\, United States
END:VEVENT
BEGIN:VEVENT
DTSTART;TZID=America/Los_Angeles:20241214T130000
DTEND;TZID=America/Los_Angeles:20241214T130000
DTSTAMP:20260425T041640
CREATED:20241125T030824Z
LAST-MODIFIED:20241125T030824Z
UID:2647-1734181200-1734181200@tintabulations.com
SUMMARY:Fallon\, NV concert
DESCRIPTION:Tintabulations\, a community handbell ensemble in Reno\, Nevada\, presents their winter concert of holiday stories and music. \nThe concert\, entitled “O Biggest Little Town\,” presents modern arrangements of classic holiday songs performed on handbells. Enthralling audiences near and far for over two decades\, Reno’s own Tintabulations Handbell Ensemble is comprised of passionate musicians focused on innovating the art of handbell performance and educational outreach. With a flash of glittering bronze\, Tintabulations delivers the highest quality music and a visual feast for the eyes. Woven through the concert are personal holiday stories from group members\, helping to get the audience into the winter spirit. \nAll concerts are family-friendly and free admission!
URL:https://tintabulations.com/event/fallon-nv-concert/
LOCATION:Churchill County Museum\, 1050 S. Maine St\, Fallon\, NV\, 89406\, United States
CATEGORIES:O Biggest Little Town
END:VEVENT
BEGIN:VEVENT
DTSTART;TZID=America/Los_Angeles:20241215T133000
DTEND;TZID=America/Los_Angeles:20241215T133000
DTSTAMP:20260425T041640
CREATED:20241125T031331Z
LAST-MODIFIED:20241125T031331Z
UID:2649-1734269400-1734269400@tintabulations.com
SUMMARY:Beckwourth\, CA concert
DESCRIPTION:Tintabulations\, a community handbell ensemble in Reno\, Nevada\, presents their winter concert of holiday stories and music. \n  \nThe concert\, entitled “O Biggest Little Town\,” presents modern arrangements of classic holiday songs performed on handbells. Enthralling audiences near and far for over two decades\, Reno’s own Tintabulations Handbell Ensemble is comprised of passionate musicians focused on innovating the art of handbell performance and educational outreach. With a flash of glittering bronze\, Tintabulations delivers the highest quality music and a visual feast for the eyes. Woven through the concert are personal holiday stories from group members\, helping to get the audience into the winter spirit. \nAll concerts are family-friendly and free admission!
URL:https://tintabulations.com/event/beckwourth-ca-concert/
LOCATION:Sierra Christian Church\, 81059 CA-70\, Beckwourth\, CA\, 96129\, United States
CATEGORIES:O Biggest Little Town
END:VEVENT
BEGIN:VEVENT
DTSTART;TZID=America/Los_Angeles:20241215T190000
DTEND;TZID=America/Los_Angeles:20241215T190000
DTSTAMP:20260425T041640
CREATED:20241125T031653Z
LAST-MODIFIED:20241125T031653Z
UID:2652-1734289200-1734289200@tintabulations.com
SUMMARY:Reno\, NV concert
DESCRIPTION:Tintabulations\, a community handbell ensemble in Reno\, Nevada\, presents their winter concert of holiday stories and music. \n  \nThe concert\, entitled “O Biggest Little Town\,” presents modern arrangements of classic holiday songs performed on handbells. Enthralling audiences near and far for over two decades\, Reno’s own Tintabulations Handbell Ensemble is comprised of passionate musicians focused on innovating the art of handbell performance and educational outreach. With a flash of glittering bronze\, Tintabulations delivers the highest quality music and a visual feast for the eyes. Woven through the concert are personal holiday stories from group members\, helping to get the audience into the winter spirit. \nAll concerts are family-friendly and free admission!
URL:https://tintabulations.com/event/reno-nv-concert/
LOCATION:Lutheran Church of the Good Shepherd\, 357 Clay St\, Reno\, NV\, 89501\, United States
CATEGORIES:O Biggest Little Town
END:VEVENT
END:VCALENDAR