BEGIN:VCALENDAR
VERSION:2.0
PRODID:-//Tintabulations Handbell Ensemble - ECPv6.15.17.1//NONSGML v1.0//EN
CALSCALE:GREGORIAN
METHOD:PUBLISH
X-ORIGINAL-URL:https://tintabulations.com
X-WR-CALDESC:Events for Tintabulations Handbell Ensemble
REFRESH-INTERVAL;VALUE=DURATION:PT1H
X-Robots-Tag:noindex
X-PUBLISHED-TTL:PT1H
BEGIN:VTIMEZONE
TZID:America/Los_Angeles
BEGIN:DAYLIGHT
TZOFFSETFROM:-0800
TZOFFSETTO:-0700
TZNAME:PDT
DTSTART:20240310T100000
END:DAYLIGHT
BEGIN:STANDARD
TZOFFSETFROM:-0700
TZOFFSETTO:-0800
TZNAME:PST
DTSTART:20241103T090000
END:STANDARD
BEGIN:DAYLIGHT
TZOFFSETFROM:-0800
TZOFFSETTO:-0700
TZNAME:PDT
DTSTART:20250309T100000
END:DAYLIGHT
BEGIN:STANDARD
TZOFFSETFROM:-0700
TZOFFSETTO:-0800
TZNAME:PST
DTSTART:20251102T090000
END:STANDARD
BEGIN:DAYLIGHT
TZOFFSETFROM:-0800
TZOFFSETTO:-0700
TZNAME:PDT
DTSTART:20260308T100000
END:DAYLIGHT
BEGIN:STANDARD
TZOFFSETFROM:-0700
TZOFFSETTO:-0800
TZNAME:PST
DTSTART:20261101T090000
END:STANDARD
END:VTIMEZONE
BEGIN:VEVENT
DTSTART;TZID=America/Los_Angeles:20251206T130000
DTEND;TZID=America/Los_Angeles:20251206T130000
DTSTAMP:20260424T122635
CREATED:20251117T231526Z
LAST-MODIFIED:20251117T231814Z
UID:3686-1765026000-1765026000@tintabulations.com
SUMMARY:Fallon\, NV
DESCRIPTION:This year\, Tintabulations Handbell Ensemble invites you to experience Carols of the Bell — an exuberant holiday concert exploring the meaning behind our favorite carols and the stories they tell. From timeless classics to fresh arrangements\, each piece celebrates the wonder\, humor\, and heart of the season. Free admission\, family-friendly.
URL:https://tintabulations.com/event/fallon-nv-3/
LOCATION:Churchill County Museum\, 1050 S. Maine St\, Fallon\, NV\, 89406\, United States
END:VEVENT
BEGIN:VEVENT
DTSTART;TZID=America/Los_Angeles:20251206T190000
DTEND;TZID=America/Los_Angeles:20251206T190000
DTSTAMP:20260424T122635
CREATED:20251117T231746Z
LAST-MODIFIED:20251117T232530Z
UID:3688-1765047600-1765047600@tintabulations.com
SUMMARY:Gardnerville\, NV
DESCRIPTION:This year\, Tintabulations Handbell Ensemble invites you to experience Carols of the Bell — an exuberant holiday concert exploring the meaning behind our favorite carols and the stories they tell. From timeless classics to fresh arrangements\, each piece celebrates the wonder\, humor\, and heart of the season. Free admission\, family-friendly.
URL:https://tintabulations.com/event/gardnerville-nv-3/
LOCATION:Carson Valley United Methodist Church\, 1375 Centerville Ln.\, Gardnerville\, NV\, 89410\, United States
END:VEVENT
BEGIN:VEVENT
DTSTART;TZID=America/Los_Angeles:20251207T190000
DTEND;TZID=America/Los_Angeles:20251207T190000
DTSTAMP:20260424T122635
CREATED:20251117T232453Z
LAST-MODIFIED:20251117T232453Z
UID:3690-1765134000-1765134000@tintabulations.com
SUMMARY:Sparks\, NV
DESCRIPTION:This year\, Tintabulations Handbell Ensemble invites you to experience Carols of the Bell — an exuberant holiday concert exploring the meaning behind our favorite carols and the stories they tell. From timeless classics to fresh arrangements\, each piece celebrates the wonder\, humor\, and heart of the season. Free admission\, family-friendly.
URL:https://tintabulations.com/event/sparks-nv-3/
LOCATION:Sparks United Methodist Church\, 1231 Pyramid Way\, Sparks\, NV\, 89431\, United States
END:VEVENT
BEGIN:VEVENT
DTSTART;TZID=America/Los_Angeles:20251214T183000
DTEND;TZID=America/Los_Angeles:20251214T183000
DTSTAMP:20260424T122635
CREATED:20251117T232632Z
LAST-MODIFIED:20251117T232632Z
UID:3692-1765737000-1765737000@tintabulations.com
SUMMARY:Reno\, NV
DESCRIPTION:This year\, Tintabulations Handbell Ensemble invites you to experience Carols of the Bell — an exuberant holiday concert exploring the meaning behind our favorite carols and the stories they tell. From timeless classics to fresh arrangements\, each piece celebrates the wonder\, humor\, and heart of the season. Free admission\, family-friendly.
URL:https://tintabulations.com/event/reno-nv-7/
LOCATION:First United Methodist Reno\, 209 W. First Street\, Reno\, NV\, 89501\, United States
END:VEVENT
BEGIN:VEVENT
DTSTART;TZID=America/Los_Angeles:20251220T130000
DTEND;TZID=America/Los_Angeles:20251220T130000
DTSTAMP:20260424T122635
CREATED:20251117T232825Z
LAST-MODIFIED:20251117T232825Z
UID:3694-1766235600-1766235600@tintabulations.com
SUMMARY:Carson City\, NV
DESCRIPTION:This year\, Tintabulations Handbell Ensemble invites you to experience Carols of the Bell — an exuberant holiday concert exploring the meaning behind our favorite carols and the stories they tell. From timeless classics to fresh arrangements\, each piece celebrates the wonder\, humor\, and heart of the season. Free admission\, family-friendly.
URL:https://tintabulations.com/event/carson-city-nv-3/
LOCATION:First United Methodist Church Carson City\, 200 N Division St\, Carson City\, NV\, 89703\, United States
END:VEVENT
BEGIN:VEVENT
DTSTART;TZID=America/Los_Angeles:20251221T190000
DTEND;TZID=America/Los_Angeles:20251221T190000
DTSTAMP:20260424T122635
CREATED:20251117T233058Z
LAST-MODIFIED:20251117T233058Z
UID:3696-1766343600-1766343600@tintabulations.com
SUMMARY:Reno\, NV
DESCRIPTION:This year\, Tintabulations Handbell Ensemble invites you to experience Carols of the Bell — an exuberant holiday concert exploring the meaning behind our favorite carols and the stories they tell. From timeless classics to fresh arrangements\, each piece celebrates the wonder\, humor\, and heart of the season. Free admission\, family-friendly. \nThis concert will also be livestreamed at: https://www.youtube.com/watch?v=gjkGYKulCt8
URL:https://tintabulations.com/event/reno-nv-8/
LOCATION:Lutheran Church of the Good Shepherd\, 357 Clay St\, Reno\, NV\, 89501\, United States
END:VEVENT
BEGIN:VEVENT
DTSTART;TZID=America/Los_Angeles:20251221T190000
DTEND;TZID=America/Los_Angeles:20251221T190000
DTSTAMP:20260424T122635
CREATED:20251117T233303Z
LAST-MODIFIED:20251117T233303Z
UID:3698-1766343600-1766343600@tintabulations.com
SUMMARY:Concert Livestream
DESCRIPTION:This year\, Tintabulations Handbell Ensemble invites you to experience Carols of the Bell — an exuberant holiday concert exploring the meaning behind our favorite carols and the stories they tell. From timeless classics to fresh arrangements\, each piece celebrates the wonder\, humor\, and heart of the season. \nConcert livestream: https://www.youtube.com/watch?v=gjkGYKulCt8
URL:https://tintabulations.com/event/concert-livestream/
LOCATION:Lutheran Church of the Good Shepherd\, 357 Clay St\, Reno\, NV\, 89501\, United States
END:VEVENT
END:VCALENDAR