BEGIN:VCALENDAR
VERSION:2.0
PRODID:-//Tintabulations Handbell Ensemble - ECPv6.15.17.1//NONSGML v1.0//EN
CALSCALE:GREGORIAN
METHOD:PUBLISH
X-ORIGINAL-URL:https://tintabulations.com
X-WR-CALDESC:Events for Tintabulations Handbell Ensemble
REFRESH-INTERVAL;VALUE=DURATION:PT1H
X-Robots-Tag:noindex
X-PUBLISHED-TTL:PT1H
BEGIN:VTIMEZONE
TZID:America/Los_Angeles
BEGIN:DAYLIGHT
TZOFFSETFROM:-0800
TZOFFSETTO:-0700
TZNAME:PDT
DTSTART:20210314T100000
END:DAYLIGHT
BEGIN:STANDARD
TZOFFSETFROM:-0700
TZOFFSETTO:-0800
TZNAME:PST
DTSTART:20211107T090000
END:STANDARD
BEGIN:DAYLIGHT
TZOFFSETFROM:-0800
TZOFFSETTO:-0700
TZNAME:PDT
DTSTART:20220313T100000
END:DAYLIGHT
BEGIN:STANDARD
TZOFFSETFROM:-0700
TZOFFSETTO:-0800
TZNAME:PST
DTSTART:20221106T090000
END:STANDARD
BEGIN:DAYLIGHT
TZOFFSETFROM:-0800
TZOFFSETTO:-0700
TZNAME:PDT
DTSTART:20230312T100000
END:DAYLIGHT
BEGIN:STANDARD
TZOFFSETFROM:-0700
TZOFFSETTO:-0800
TZNAME:PST
DTSTART:20231105T090000
END:STANDARD
END:VTIMEZONE
BEGIN:VEVENT
DTSTART;TZID=America/Los_Angeles:20220707T190000
DTEND;TZID=America/Los_Angeles:20220707T190000
DTSTAMP:20260423T223306
CREATED:20220509T185054Z
LAST-MODIFIED:20220509T185054Z
UID:1970-1657220400-1657220400@tintabulations.com
SUMMARY:Reno Concert
DESCRIPTION:Part of the Artown Concert Series. Tintabulations has been bringing engaging\, educational\, and dynamic concerts in the art of handbell ringing to the Northern Nevada community for more than two decades. Join us at “Tintab’s Playground” for a fun\, family-friendly concert.
URL:https://tintabulations.com/event/reno-concert/
LOCATION:First United Methodist Reno\, 209 W. First Street\, Reno\, NV\, 89501\, United States
CATEGORIES:Tintab's Playground
END:VEVENT
BEGIN:VEVENT
DTSTART;TZID=America/Los_Angeles:20220626T190000
DTEND;TZID=America/Los_Angeles:20220626T190000
DTSTAMP:20260423T223306
CREATED:20220509T185358Z
LAST-MODIFIED:20220522T190806Z
UID:1972-1656270000-1656270000@tintabulations.com
SUMMARY:Reno Concert
DESCRIPTION:Tintabulations has been bringing engaging\, educational\, and dynamic concerts in the art of handbell ringing to the Northern Nevada community for more than two decades. Join us at “Tintab’s Playground” for a fun\, family-friendly concert. \nThis project is supported in part by the Nevada Arts Council and the National Endowment for the Arts.
URL:https://tintabulations.com/event/reno-concert-2/
LOCATION:Hall Recital Hall\, UNR\, University of Nevada\, Reno\, Reno\, 89503\, United States
CATEGORIES:Tintab's Playground
END:VEVENT
BEGIN:VEVENT
DTSTART;TZID=America/Los_Angeles:20220626T130000
DTEND;TZID=America/Los_Angeles:20220626T130000
DTSTAMP:20260423T223306
CREATED:20220509T183744Z
LAST-MODIFIED:20220522T183503Z
UID:1961-1656248400-1656248400@tintabulations.com
SUMMARY:Sparks Concert
DESCRIPTION:Tintabulations has been bringing engaging\, educational\, and dynamic concerts in the art of handbell ringing to the Northern Nevada community for more than two decades. Join us at “Tintab’s Playground” for a fun\, family-friendly concert.
URL:https://tintabulations.com/event/tintabs-playground-5/
LOCATION:Sparks United Methodist Church\, 1231 Pyramid Way\, Sparks\, NV\, 89431\, United States
CATEGORIES:Tintab's Playground
END:VEVENT
BEGIN:VEVENT
DTSTART;TZID=America/Los_Angeles:20220625T190000
DTEND;TZID=America/Los_Angeles:20220625T190000
DTSTAMP:20260423T223306
CREATED:20220509T183640Z
LAST-MODIFIED:20220509T184307Z
UID:1959-1656183600-1656183600@tintabulations.com
SUMMARY:Gardnerville Concert
DESCRIPTION:Tintabulations has been bringing engaging\, educational\, and dynamic concerts in the art of handbell ringing to the Northern Nevada community for more than two decades. Join us at “Tintab’s Playground” for a fun\, family-friendly concert.
URL:https://tintabulations.com/event/tintabs-playground-4/
LOCATION:Carson Valley United Methodist Church\, 1375 Centerville Ln.\, Gardnerville\, NV\, 89410\, United States
CATEGORIES:Tintab's Playground
END:VEVENT
BEGIN:VEVENT
DTSTART;TZID=America/Los_Angeles:20220625T130000
DTEND;TZID=America/Los_Angeles:20220625T130000
DTSTAMP:20260423T223306
CREATED:20220509T183512Z
LAST-MODIFIED:20220509T184214Z
UID:1956-1656162000-1656162000@tintabulations.com
SUMMARY:Fallon Concert
DESCRIPTION:Tintabulations has been bringing engaging\, educational\, and dynamic concerts in the art of handbell ringing to the Northern Nevada community for more than two decades. Join us at “Tintab’s Playground” for a fun\, family-friendly concert.
URL:https://tintabulations.com/event/tintabs-playground-3/
LOCATION:Epworth United Methodist Church\, 280 E Stillwater Ave\, Fallon\, NV\, 89406\, United States
CATEGORIES:Tintab's Playground
END:VEVENT
BEGIN:VEVENT
DTSTART;TZID=America/Los_Angeles:20220620T190000
DTEND;TZID=America/Los_Angeles:20220620T190000
DTSTAMP:20260423T223306
CREATED:20220522T191431Z
LAST-MODIFIED:20220522T191431Z
UID:1998-1655751600-1655751600@tintabulations.com
SUMMARY:Sparks Concert
DESCRIPTION:Tintabulations has been bringing engaging\, educational\, and dynamic concerts in the art of handbell ringing to the Northern Nevada community for more than two decades. Join us at “Tintab’s Playground” for a fun\, family-friendly concert.
URL:https://tintabulations.com/event/sparks-concert/
LOCATION:Tony Armstrong Amphitheater\, 905 Victorian Ave\, Sparks\, NV\, 89431\, United States
CATEGORIES:Tintab's Playground
END:VEVENT
BEGIN:VEVENT
DTSTART;TZID=America/Los_Angeles:20220612T190000
DTEND;TZID=America/Los_Angeles:20220612T190000
DTSTAMP:20260423T223306
CREATED:20220509T183221Z
LAST-MODIFIED:20220522T190735Z
UID:1954-1655060400-1655060400@tintabulations.com
SUMMARY:Carson City Concert
DESCRIPTION:Tintabulations has been bringing engaging\, educational\, and dynamic concerts in the art of handbell ringing to the Northern Nevada community for more than two decades. Join the group as we launch our 2022 concert tour\, “Tintab’s Playground”. \nThis project is supported in part by the Nevada Arts Council and the National Endowment for the Arts.
URL:https://tintabulations.com/event/tintabs-playground-2/
LOCATION:Brewery Arts Center\, 449 W. King St.\, Carson City\, NV\, 89703\, United States
CATEGORIES:Tintab's Playground
END:VEVENT
BEGIN:VEVENT
DTSTART;TZID=America/Los_Angeles:20220612T130000
DTEND;TZID=America/Los_Angeles:20220612T130000
DTSTAMP:20260423T223306
CREATED:20220509T183027Z
LAST-MODIFIED:20220522T190710Z
UID:1950-1655038800-1655038800@tintabulations.com
SUMMARY:Virginia City Concert
DESCRIPTION:Tintabulations has been bringing engaging\, educational\, and dynamic concerts in the art of handbell ringing to the Northern Nevada community for more than two decades. Join the group as we launch our 2022 tour\, “Tintab’s Playground\,” with a special concert at Piper’s Opera House! \nThis project is supported in part by the Nevada Arts Council and the National Endowment for the Arts. \n \n 
URL:https://tintabulations.com/event/tintabs-playground/
LOCATION:Piper’s Opera House\, 12 N B Street\, Virginia City\, 89440\, United States
CATEGORIES:Tintab's Playground
END:VEVENT
BEGIN:VEVENT
DTSTART;TZID=America/Los_Angeles:20220611T190000
DTEND;TZID=America/Los_Angeles:20220611T190000
DTSTAMP:20260423T223306
CREATED:20220523T141113Z
LAST-MODIFIED:20220523T141113Z
UID:2002-1654974000-1654974000@tintabulations.com
SUMMARY:Reno Concert
DESCRIPTION:Tintabulations has been bringing engaging\, educational\, and dynamic concerts in the art of handbell ringing to the Northern Nevada community for more than two decades. Join us at “Tintab’s Playground” for a fun\, family-friendly concert.
URL:https://tintabulations.com/event/reno-concert-3/
LOCATION:South Reno United Methodist Church\, 200 De Spain Ln\, Reno\, NV\, 89511\, United States
CATEGORIES:Tintab's Playground
END:VEVENT
END:VCALENDAR