BEGIN:VCALENDAR
VERSION:2.0
PRODID:-//Tintabulations Handbell Ensemble - ECPv6.15.17.1//NONSGML v1.0//EN
CALSCALE:GREGORIAN
METHOD:PUBLISH
X-ORIGINAL-URL:https://tintabulations.com
X-WR-CALDESC:Events for Tintabulations Handbell Ensemble
REFRESH-INTERVAL;VALUE=DURATION:PT1H
X-Robots-Tag:noindex
X-PUBLISHED-TTL:PT1H
BEGIN:VTIMEZONE
TZID:America/Los_Angeles
BEGIN:DAYLIGHT
TZOFFSETFROM:-0800
TZOFFSETTO:-0700
TZNAME:PDT
DTSTART:20220313T100000
END:DAYLIGHT
BEGIN:STANDARD
TZOFFSETFROM:-0700
TZOFFSETTO:-0800
TZNAME:PST
DTSTART:20221106T090000
END:STANDARD
BEGIN:DAYLIGHT
TZOFFSETFROM:-0800
TZOFFSETTO:-0700
TZNAME:PDT
DTSTART:20230312T100000
END:DAYLIGHT
BEGIN:STANDARD
TZOFFSETFROM:-0700
TZOFFSETTO:-0800
TZNAME:PST
DTSTART:20231105T090000
END:STANDARD
BEGIN:DAYLIGHT
TZOFFSETFROM:-0800
TZOFFSETTO:-0700
TZNAME:PDT
DTSTART:20240310T100000
END:DAYLIGHT
BEGIN:STANDARD
TZOFFSETFROM:-0700
TZOFFSETTO:-0800
TZNAME:PST
DTSTART:20241103T090000
END:STANDARD
END:VTIMEZONE
BEGIN:VEVENT
DTSTART;TZID=America/Los_Angeles:20230706T190000
DTEND;TZID=America/Los_Angeles:20230706T190000
DTSTAMP:20260424T031029
CREATED:20230517T212825Z
LAST-MODIFIED:20230517T212825Z
UID:2348-1688670000-1688670000@tintabulations.com
SUMMARY:Reno\, NV
DESCRIPTION:Join Tintabulations for our Summer 2023 Concert Tour inspired by Robert Frost’s “The Road Not Taken”. This free\, family-friendly concert series features Northern Nevada’s premier handbell musicians in selections ranging from musical theater to rumba to neoclassical as we explore the adventurous and eclectic spirit of the poem.
URL:https://tintabulations.com/event/reno-nv-5/
LOCATION:Lutheran Church of the Good Shepherd\, 357 Clay St\, Reno\, NV\, 89501\, United States
CATEGORIES:The Road (Not) Taken
END:VEVENT
BEGIN:VEVENT
DTSTART;TZID=America/Los_Angeles:20230625T190000
DTEND;TZID=America/Los_Angeles:20230625T190000
DTSTAMP:20260424T031029
CREATED:20230517T212719Z
LAST-MODIFIED:20230517T212719Z
UID:2346-1687719600-1687719600@tintabulations.com
SUMMARY:Sparks\, NV
DESCRIPTION:Join Tintabulations for our Summer 2023 Concert Tour inspired by Robert Frost’s “The Road Not Taken”. This free\, family-friendly concert series features Northern Nevada’s premier handbell musicians in selections ranging from musical theater to rumba to neoclassical as we explore the adventurous and eclectic spirit of the poem.
URL:https://tintabulations.com/event/sparks-nv-2/
LOCATION:Sparks United Methodist Church\, 1231 Pyramid Way\, Sparks\, NV\, 89431\, United States
CATEGORIES:The Road (Not) Taken
END:VEVENT
BEGIN:VEVENT
DTSTART;TZID=America/Los_Angeles:20230625T130000
DTEND;TZID=America/Los_Angeles:20230625T130000
DTSTAMP:20260424T031029
CREATED:20230517T212626Z
LAST-MODIFIED:20230517T212626Z
UID:2344-1687698000-1687698000@tintabulations.com
SUMMARY:Fallon\, NV
DESCRIPTION:Join Tintabulations for our Summer 2023 Concert Tour inspired by Robert Frost’s “The Road Not Taken”. This free\, family-friendly concert series features Northern Nevada’s premier handbell musicians in selections ranging from musical theater to rumba to neoclassical as we explore the adventurous and eclectic spirit of the poem.
URL:https://tintabulations.com/event/fallon-nv-2/
LOCATION:Epworth United Methodist Church\, 280 E Stillwater Ave\, Fallon\, NV\, 89406\, United States
CATEGORIES:The Road (Not) Taken
END:VEVENT
BEGIN:VEVENT
DTSTART;TZID=America/Los_Angeles:20230624T190000
DTEND;TZID=America/Los_Angeles:20230624T190000
DTSTAMP:20260424T031029
CREATED:20230517T212516Z
LAST-MODIFIED:20230517T212516Z
UID:2342-1687633200-1687633200@tintabulations.com
SUMMARY:Gardnerville\, NV
DESCRIPTION:Join Tintabulations for our Summer 2023 Concert Tour inspired by Robert Frost’s “The Road Not Taken”. This free\, family-friendly concert series features Northern Nevada’s premier handbell musicians in selections ranging from musical theater to rumba to neoclassical as we explore the adventurous and eclectic spirit of the poem.
URL:https://tintabulations.com/event/gardnerville-nv-2/
LOCATION:Carson Valley United Methodist Church\, 1375 Centerville Ln.\, Gardnerville\, NV\, 89410\, United States
CATEGORIES:The Road (Not) Taken
END:VEVENT
BEGIN:VEVENT
DTSTART;TZID=America/Los_Angeles:20230624T130000
DTEND;TZID=America/Los_Angeles:20230624T130000
DTSTAMP:20260424T031029
CREATED:20230517T212416Z
LAST-MODIFIED:20230518T042247Z
UID:2340-1687611600-1687611600@tintabulations.com
SUMMARY:Carson City\, NV
DESCRIPTION:Join Tintabulations for our Summer 2023 Concert Tour inspired by Robert Frost’s “The Road Not Taken”. This free\, family-friendly concert series features Northern Nevada’s premier handbell musicians in selections ranging from musical theater to rumba to neoclassical as we explore the adventurous and eclectic spirit of the poem.
URL:https://tintabulations.com/event/carson-city-nv-2/
LOCATION:First United Methodist Church Carson City\, 200 N Division St\, Carson City\, NV\, 89703\, United States
CATEGORIES:The Road (Not) Taken
END:VEVENT
BEGIN:VEVENT
DTSTART;TZID=America/Los_Angeles:20230623T190000
DTEND;TZID=America/Los_Angeles:20230623T190000
DTSTAMP:20260424T031029
CREATED:20230524T192727Z
LAST-MODIFIED:20230524T192727Z
UID:2352-1687546800-1687546800@tintabulations.com
SUMMARY:Reno\, NV
DESCRIPTION:Join Tintabulations for our Summer 2023 Concert Tour inspired by Robert Frost’s “The Road Not Taken”. This free\, family-friendly concert series features Northern Nevada’s premier handbell musicians in selections ranging from musical theater to rumba to neoclassical as we explore the adventurous and eclectic spirit of the poem.
URL:https://tintabulations.com/event/reno-nv-6/
LOCATION:Sheperd of the Mountains Lutheran Church\, 955 W. Peckham Lane\, Reno\, NV\, 89509\, United States
CATEGORIES:The Road (Not) Taken
END:VEVENT
BEGIN:VEVENT
DTSTART;TZID=America/Los_Angeles:20230619T190000
DTEND;TZID=America/Los_Angeles:20230619T190000
DTSTAMP:20260424T031029
CREATED:20230517T212313Z
LAST-MODIFIED:20230517T212313Z
UID:2338-1687201200-1687201200@tintabulations.com
SUMMARY:Reno\, NV
DESCRIPTION:Join Tintabulations for our Summer 2023 Concert Tour inspired by Robert Frost’s “The Road Not Taken”. This free\, family-friendly concert series features Northern Nevada’s premier handbell musicians in selections ranging from musical theater to rumba to neoclassical as we explore the adventurous and eclectic spirit of the poem.
URL:https://tintabulations.com/event/reno-nv-4/
LOCATION:Total Wine and More\, 6671 S Virginia St\, Reno\, NV\, 89511\, United States
CATEGORIES:The Road (Not) Taken
END:VEVENT
BEGIN:VEVENT
DTSTART;TZID=America/Los_Angeles:20230617T190000
DTEND;TZID=America/Los_Angeles:20230617T190000
DTSTAMP:20260424T031029
CREATED:20230517T212147Z
LAST-MODIFIED:20230517T212147Z
UID:2336-1687028400-1687028400@tintabulations.com
SUMMARY:Portola\, CA
DESCRIPTION:Join Tintabulations for our Summer 2023 Concert Tour inspired by Robert Frost’s “The Road Not Taken”. This free\, family-friendly concert series features Northern Nevada’s premier handbell musicians in selections ranging from musical theater to rumba to neoclassical as we explore the adventurous and eclectic spirit of the poem.
URL:https://tintabulations.com/event/portola-ca/
LOCATION:Portola UMC\, 396 2nd Ave\, Portola\, CA\, 96122\, United States
CATEGORIES:The Road (Not) Taken
END:VEVENT
BEGIN:VEVENT
DTSTART;TZID=America/Los_Angeles:20230617T130000
DTEND;TZID=America/Los_Angeles:20230617T130000
DTSTAMP:20260424T031029
CREATED:20230517T212034Z
LAST-MODIFIED:20230517T212034Z
UID:2333-1687006800-1687006800@tintabulations.com
SUMMARY:Chester\, CA
DESCRIPTION:Join Tintabulations for our Summer 2023 Concert Tour inspired by Robert Frost’s “The Road Not Taken”. This free\, family-friendly concert series features Northern Nevada’s premier handbell musicians in selections ranging from musical theater to rumba to neoclassical as we explore the adventurous and eclectic spirit of the poem.
URL:https://tintabulations.com/event/chester-ca/
LOCATION:Chester United Methodist Church\, 386 Main St\, Chester\, CA\, 96020\, United States
CATEGORIES:The Road (Not) Taken
END:VEVENT
BEGIN:VEVENT
DTSTART;TZID=America/Los_Angeles:20230604T183000
DTEND;TZID=America/Los_Angeles:20230604T183000
DTSTAMP:20260424T031029
CREATED:20230517T211522Z
LAST-MODIFIED:20230518T042203Z
UID:2327-1685903400-1685903400@tintabulations.com
SUMMARY:Bridgeport\, CA
DESCRIPTION:Join Tintabulations for our Summer 2023 Concert Tour inspired by Robert Frost’s “The Road Not Taken”. This free\, family-friendly concert series features Northern Nevada’s premier handbell musicians in selections ranging from musical theater to rumba to neoclassical as we explore the adventurous and eclectic spirit of the poem.
URL:https://tintabulations.com/event/the-road-not-taken/
LOCATION:Bridgeport Elementary School\, 205 Kingsley St\, Bridgeport\, CA\, 93517\, United States
CATEGORIES:The Road (Not) Taken
END:VEVENT
BEGIN:VEVENT
DTSTART;TZID=America/Los_Angeles:20230604T130000
DTEND;TZID=America/Los_Angeles:20230604T130000
DTSTAMP:20260424T031029
CREATED:20230517T211647Z
LAST-MODIFIED:20230518T042030Z
UID:2329-1685883600-1685883600@tintabulations.com
SUMMARY:Bishop\, CA
DESCRIPTION:Join Tintabulations for our Summer 2023 Concert Tour inspired by Robert Frost’s “The Road Not Taken”. This free\, family-friendly concert series features Northern Nevada’s premier handbell musicians in selections ranging from musical theater to rumba to neoclassical as we explore the adventurous and eclectic spirit of the poem.
URL:https://tintabulations.com/event/the-road-not-taken-2/
LOCATION:First United Methodist Church Bishop\, 205 N. Fowler Street\, Bishop\, CA\, 93514\, United States
CATEGORIES:The Road (Not) Taken
END:VEVENT
END:VCALENDAR