BEGIN:VCALENDAR
VERSION:2.0
PRODID:-//Tintabulations Handbell Ensemble - ECPv6.15.17.1//NONSGML v1.0//EN
CALSCALE:GREGORIAN
METHOD:PUBLISH
X-ORIGINAL-URL:https://tintabulations.com
X-WR-CALDESC:Events for Tintabulations Handbell Ensemble
REFRESH-INTERVAL;VALUE=DURATION:PT1H
X-Robots-Tag:noindex
X-PUBLISHED-TTL:PT1H
BEGIN:VTIMEZONE
TZID:America/Los_Angeles
BEGIN:DAYLIGHT
TZOFFSETFROM:-0800
TZOFFSETTO:-0700
TZNAME:PDT
DTSTART:20180311T100000
END:DAYLIGHT
BEGIN:STANDARD
TZOFFSETFROM:-0700
TZOFFSETTO:-0800
TZNAME:PST
DTSTART:20181104T090000
END:STANDARD
BEGIN:DAYLIGHT
TZOFFSETFROM:-0800
TZOFFSETTO:-0700
TZNAME:PDT
DTSTART:20190310T100000
END:DAYLIGHT
BEGIN:STANDARD
TZOFFSETFROM:-0700
TZOFFSETTO:-0800
TZNAME:PST
DTSTART:20191103T090000
END:STANDARD
BEGIN:DAYLIGHT
TZOFFSETFROM:-0800
TZOFFSETTO:-0700
TZNAME:PDT
DTSTART:20200308T100000
END:DAYLIGHT
BEGIN:STANDARD
TZOFFSETFROM:-0700
TZOFFSETTO:-0800
TZNAME:PST
DTSTART:20201101T090000
END:STANDARD
END:VTIMEZONE
BEGIN:VEVENT
DTSTART;TZID=America/Los_Angeles:20190702T190000
DTEND;TZID=America/Los_Angeles:20190702T200000
DTSTAMP:20260423T214555
CREATED:20190406T212710Z
LAST-MODIFIED:20190406T212710Z
UID:1500-1562094000-1562097600@tintabulations.com
SUMMARY:Reno\, Nevada Artown Performance
DESCRIPTION:Part of Artown!
URL:https://tintabulations.com/event/reno-nevada-artown-performance/
LOCATION:First United Methodist Reno\, 209 W. First Street\, Reno\, NV\, 89501\, United States
CATEGORIES:Every Time a Bell Rings
END:VEVENT
BEGIN:VEVENT
DTSTART;TZID=America/Los_Angeles:20190701T190000
DTEND;TZID=America/Los_Angeles:20190701T200000
DTSTAMP:20260423T214555
CREATED:20190406T212347Z
LAST-MODIFIED:20190406T212734Z
UID:1498-1562007600-1562011200@tintabulations.com
SUMMARY:Sparks\, Nevada Artown Performance
DESCRIPTION:Part of Artown!
URL:https://tintabulations.com/event/sparks-nevada-performance-6/
LOCATION:Tony Armstrong Amphitheater\, 905 Victorian Ave\, Sparks\, NV\, 89431\, United States
CATEGORIES:Every Time a Bell Rings
END:VEVENT
BEGIN:VEVENT
DTSTART;TZID=America/Los_Angeles:20190630T123000
DTEND;TZID=America/Los_Angeles:20190630T133000
DTSTAMP:20260423T214555
CREATED:20190406T212006Z
LAST-MODIFIED:20190406T212006Z
UID:1496-1561897800-1561901400@tintabulations.com
SUMMARY:Carson City\, Nevada Performance
DESCRIPTION:
URL:https://tintabulations.com/event/carson-city-nevada-performance-3/
LOCATION:Carson Community Center\, 851 E William St\, Carson City\, NV\, 89701\, United States
CATEGORIES:Every Time a Bell Rings
END:VEVENT
BEGIN:VEVENT
DTSTART;TZID=America/Los_Angeles:20190629T190000
DTEND;TZID=America/Los_Angeles:20190629T200000
DTSTAMP:20260423T214555
CREATED:20190406T211854Z
LAST-MODIFIED:20190406T211854Z
UID:1494-1561834800-1561838400@tintabulations.com
SUMMARY:Bishop\, California Performance
DESCRIPTION:
URL:https://tintabulations.com/event/bishop-california-performance/
LOCATION:First United Methodist Church Bishop\, 205 N. Fowler Street\, Bishop\, CA\, 93514\, United States
CATEGORIES:Every Time a Bell Rings
END:VEVENT
BEGIN:VEVENT
DTSTART;TZID=America/Los_Angeles:20190629T130000
DTEND;TZID=America/Los_Angeles:20190629T140000
DTSTAMP:20260423T214555
CREATED:20190406T210645Z
LAST-MODIFIED:20190408T175948Z
UID:1491-1561813200-1561816800@tintabulations.com
SUMMARY:Crowley Lake\, California Performance
DESCRIPTION:
URL:https://tintabulations.com/event/mammoth-lakes-california-performance/
LOCATION:Church on the Mountain\, 384 South Landing Road\, Crowley Lake\, CA\, 93546\, United States
CATEGORIES:Every Time a Bell Rings
END:VEVENT
BEGIN:VEVENT
DTSTART;TZID=America/Los_Angeles:20190624T190000
DTEND;TZID=America/Los_Angeles:20190624T200000
DTSTAMP:20260423T214555
CREATED:20190406T204453Z
LAST-MODIFIED:20190406T204503Z
UID:1489-1561402800-1561406400@tintabulations.com
SUMMARY:Sparks\, Nevada Performance
DESCRIPTION:Please note that this is the Sparks location\, not the South Virginia Street location.
URL:https://tintabulations.com/event/sparks-nevada-performance-5/
LOCATION:Great Basin Brewing Co. Sparks\, 846 Victorian Ave\, Sparks\, NV\, 89431\, United States
CATEGORIES:Every Time a Bell Rings
END:VEVENT
BEGIN:VEVENT
DTSTART;TZID=America/Los_Angeles:20190617T190000
DTEND;TZID=America/Los_Angeles:20190617T200000
DTSTAMP:20260423T214555
CREATED:20190406T195208Z
LAST-MODIFIED:20190406T201654Z
UID:1484-1560798000-1560801600@tintabulations.com
SUMMARY:Reno\, Nevada Performance
DESCRIPTION:This event is only for our fans over the age of 21
URL:https://tintabulations.com/event/reno-nevada-performance-9/
LOCATION:Total Wine and More\, 6671 S Virginia St\, Reno\, NV\, 89511\, United States
CATEGORIES:Every Time a Bell Rings
END:VEVENT
BEGIN:VEVENT
DTSTART;TZID=America/Los_Angeles:20190610T190000
DTEND;TZID=America/Los_Angeles:20190610T200000
DTSTAMP:20260423T214555
CREATED:20190406T202837Z
LAST-MODIFIED:20190406T215010Z
UID:1487-1560193200-1560196800@tintabulations.com
SUMMARY:Reno\, Nevada Performance
DESCRIPTION:This performance is only for fans over 21
URL:https://tintabulations.com/event/reno-nevada-concert/
LOCATION:Virginia Street Brewhouse\, 211 N. Virginia St\, Reno\, NV\, 89501\, United States
CATEGORIES:Every Time a Bell Rings
END:VEVENT
BEGIN:VEVENT
DTSTART;TZID=America/Los_Angeles:20190609T190000
DTEND;TZID=America/Los_Angeles:20190609T200000
DTSTAMP:20260423T214555
CREATED:20190406T193906Z
LAST-MODIFIED:20190406T193906Z
UID:1482-1560106800-1560110400@tintabulations.com
SUMMARY:Fernley\, Nevada Performance
DESCRIPTION:
URL:https://tintabulations.com/event/fernley-nevada-performance-2/
LOCATION:First Baptist Church Fernley\, 485 E. Main Street\, Fernley\, NV\, 89408\, United States
CATEGORIES:Every Time a Bell Rings
END:VEVENT
BEGIN:VEVENT
DTSTART;TZID=America/Los_Angeles:20190609T130000
DTEND;TZID=America/Los_Angeles:20190609T140000
DTSTAMP:20260423T214555
CREATED:20190406T193716Z
LAST-MODIFIED:20190406T193716Z
UID:1480-1560085200-1560088800@tintabulations.com
SUMMARY:Fallon\, Nevada Performance
DESCRIPTION:
URL:https://tintabulations.com/event/fallon-nevada-performance-3/
LOCATION:Churchill County Museum\, 1050 S. Maine St\, Fallon\, NV\, 89406\, United States
CATEGORIES:Every Time a Bell Rings
END:VEVENT
BEGIN:VEVENT
DTSTART;TZID=America/Los_Angeles:20190519T180000
DTEND;TZID=America/Los_Angeles:20190519T190000
DTSTAMP:20260423T214555
CREATED:20190406T193342Z
LAST-MODIFIED:20190406T193342Z
UID:1477-1558288800-1558292400@tintabulations.com
SUMMARY:Grass Valley\, California Performance
DESCRIPTION:
URL:https://tintabulations.com/event/grass-valley-california-performance-2/
LOCATION:Peace Lutheran Church ELCA Grass Valley\, 828 W Main St\, Grass Valley\, CA\, 95945\, United States
CATEGORIES:Every Time a Bell Rings
END:VEVENT
BEGIN:VEVENT
DTSTART;TZID=America/Los_Angeles:20190519T130000
DTEND;TZID=America/Los_Angeles:20190519T140000
DTSTAMP:20260423T214555
CREATED:20190422T225311Z
LAST-MODIFIED:20190422T225336Z
UID:1512-1558270800-1558274400@tintabulations.com
SUMMARY:Colfax\, California Performance
DESCRIPTION:
URL:https://tintabulations.com/event/colfax-california-performance/
LOCATION:Colfax Theater\, 49 S. Main St.\, Colfax\, CA\, 95713\, United States
CATEGORIES:Every Time a Bell Rings
END:VEVENT
BEGIN:VEVENT
DTSTART;TZID=America/Los_Angeles:20190518T170000
DTEND;TZID=America/Los_Angeles:20190518T180000
DTSTAMP:20260423T214555
CREATED:20190406T192930Z
LAST-MODIFIED:20190406T192930Z
UID:1471-1558198800-1558202400@tintabulations.com
SUMMARY:Reno\, Nevada Performance
DESCRIPTION:
URL:https://tintabulations.com/event/reno-nevada-performance-8/
LOCATION:South Reno United Methodist Church\, 200 De Spain Ln\, Reno\, NV\, 89511\, United States
CATEGORIES:Every Time a Bell Rings
END:VEVENT
BEGIN:VEVENT
DTSTART;TZID=America/Los_Angeles:20190511T190000
DTEND;TZID=America/Los_Angeles:20190511T200000
DTSTAMP:20260423T214555
CREATED:20190406T192217Z
LAST-MODIFIED:20190406T195359Z
UID:1466-1557601200-1557604800@tintabulations.com
SUMMARY:Portola\, California Performance
DESCRIPTION:
URL:https://tintabulations.com/event/portola-california-performance/
LOCATION:Portola UMC\, 396 2nd Ave\, Portola\, CA\, 96122\, United States
CATEGORIES:Every Time a Bell Rings
END:VEVENT
BEGIN:VEVENT
DTSTART;TZID=America/Los_Angeles:20190511T130000
DTEND;TZID=America/Los_Angeles:20190511T140000
DTSTAMP:20260423T214555
CREATED:20190406T191221Z
LAST-MODIFIED:20190406T191221Z
UID:1463-1557579600-1557583200@tintabulations.com
SUMMARY:Tahoe City\, California Performance
DESCRIPTION:
URL:https://tintabulations.com/event/tahoe-city-california-performance/
LOCATION:First Baptist Church Tahoe City\, 390 Fairway Dr.\, Tahoe City\, CA\, 96145\, United States
CATEGORIES:Every Time a Bell Rings
END:VEVENT
BEGIN:VEVENT
DTSTART;TZID=America/Los_Angeles:20190505T163000
DTEND;TZID=America/Los_Angeles:20190505T173000
DTSTAMP:20260423T214555
CREATED:20190406T190559Z
LAST-MODIFIED:20190406T190559Z
UID:1460-1557073800-1557077400@tintabulations.com
SUMMARY:Sacramento\, California Performance
DESCRIPTION:
URL:https://tintabulations.com/event/sacramento-california-performance-2/
LOCATION:First United Methodist Church Sacramento\, 2100 J Street\, Sacramento\, CA\, 95816\, United States
CATEGORIES:Every Time a Bell Rings
END:VEVENT
BEGIN:VEVENT
DTSTART;TZID=America/Los_Angeles:20190505T120000
DTEND;TZID=America/Los_Angeles:20190505T130000
DTSTAMP:20260423T214555
CREATED:20190406T185604Z
LAST-MODIFIED:20190411T213759Z
UID:1457-1557057600-1557061200@tintabulations.com
SUMMARY:Stockton\, California Performance
DESCRIPTION:
URL:https://tintabulations.com/event/stockton-california-performance/
LOCATION:Holy Cross United Methodist\, 1200 W. Hammer Ln\, Stockton\, CA\, 95209\, United States
CATEGORIES:Every Time a Bell Rings
END:VEVENT
END:VCALENDAR