BEGIN:VCALENDAR
VERSION:2.0
PRODID:-//Tintabulations Handbell Ensemble - ECPv6.15.17.1//NONSGML v1.0//EN
CALSCALE:GREGORIAN
METHOD:PUBLISH
X-ORIGINAL-URL:https://tintabulations.com
X-WR-CALDESC:Events for Tintabulations Handbell Ensemble
REFRESH-INTERVAL;VALUE=DURATION:PT1H
X-Robots-Tag:noindex
X-PUBLISHED-TTL:PT1H
BEGIN:VTIMEZONE
TZID:America/Los_Angeles
BEGIN:DAYLIGHT
TZOFFSETFROM:-0800
TZOFFSETTO:-0700
TZNAME:PDT
DTSTART:20170312T100000
END:DAYLIGHT
BEGIN:STANDARD
TZOFFSETFROM:-0700
TZOFFSETTO:-0800
TZNAME:PST
DTSTART:20171105T090000
END:STANDARD
BEGIN:DAYLIGHT
TZOFFSETFROM:-0800
TZOFFSETTO:-0700
TZNAME:PDT
DTSTART:20180311T100000
END:DAYLIGHT
BEGIN:STANDARD
TZOFFSETFROM:-0700
TZOFFSETTO:-0800
TZNAME:PST
DTSTART:20181104T090000
END:STANDARD
BEGIN:DAYLIGHT
TZOFFSETFROM:-0800
TZOFFSETTO:-0700
TZNAME:PDT
DTSTART:20190310T100000
END:DAYLIGHT
BEGIN:STANDARD
TZOFFSETFROM:-0700
TZOFFSETTO:-0800
TZNAME:PST
DTSTART:20191103T090000
END:STANDARD
BEGIN:DAYLIGHT
TZOFFSETFROM:-0800
TZOFFSETTO:-0700
TZNAME:PDT
DTSTART:20200308T100000
END:DAYLIGHT
BEGIN:STANDARD
TZOFFSETFROM:-0700
TZOFFSETTO:-0800
TZNAME:PST
DTSTART:20201101T090000
END:STANDARD
BEGIN:DAYLIGHT
TZOFFSETFROM:-0800
TZOFFSETTO:-0700
TZNAME:PDT
DTSTART:20210314T100000
END:DAYLIGHT
BEGIN:STANDARD
TZOFFSETFROM:-0700
TZOFFSETTO:-0800
TZNAME:PST
DTSTART:20211107T090000
END:STANDARD
BEGIN:DAYLIGHT
TZOFFSETFROM:-0800
TZOFFSETTO:-0700
TZNAME:PDT
DTSTART:20220313T100000
END:DAYLIGHT
BEGIN:STANDARD
TZOFFSETFROM:-0700
TZOFFSETTO:-0800
TZNAME:PST
DTSTART:20221106T090000
END:STANDARD
BEGIN:DAYLIGHT
TZOFFSETFROM:-0800
TZOFFSETTO:-0700
TZNAME:PDT
DTSTART:20230312T100000
END:DAYLIGHT
BEGIN:STANDARD
TZOFFSETFROM:-0700
TZOFFSETTO:-0800
TZNAME:PST
DTSTART:20231105T090000
END:STANDARD
BEGIN:DAYLIGHT
TZOFFSETFROM:-0800
TZOFFSETTO:-0700
TZNAME:PDT
DTSTART:20240310T100000
END:DAYLIGHT
BEGIN:STANDARD
TZOFFSETFROM:-0700
TZOFFSETTO:-0800
TZNAME:PST
DTSTART:20241103T090000
END:STANDARD
END:VTIMEZONE
BEGIN:VEVENT
DTSTART;TZID=America/Los_Angeles:20231216T190000
DTEND;TZID=America/Los_Angeles:20231216T210000
DTSTAMP:20260423T155330
CREATED:20231102T022801Z
LAST-MODIFIED:20231102T022916Z
UID:2422-1702753200-1702760400@tintabulations.com
SUMMARY:Guest Performance with the Reno Pops Orchestra
DESCRIPTION:Tintabulations makes a guest appearance at the Reno Pops Orchestra winter concert. \nFamily friendly\, free admission. \nFor more information\, visit Reno Pops Orchestra.
URL:https://tintabulations.com/event/guest-performance-with-the-reno-pops-orchestra-2/
LOCATION:Nightingale Concert Hall\, 133 N. Virginia St\, Reno\, NV\, 89512\, United States
CATEGORIES:Appearances
END:VEVENT
BEGIN:VEVENT
DTSTART;VALUE=DATE:20231208
DTEND;VALUE=DATE:20231211
DTSTAMP:20260423T155330
CREATED:20231102T021746Z
LAST-MODIFIED:20231102T021746Z
UID:2413-1701993600-1702252799@tintabulations.com
SUMMARY:Spirit of the Season
DESCRIPTION:Tintabulations is one of the featured performing groups at the Reno Philharmonic’s annual holiday celebration\, “Spirit of the Season“. \n\nDecember 8 @ 7:00 pm\nDecember 9 @ 2:00 pm & @ 7:00 pm\nDecember 10 @ 2:00 pm\n\nFor ticket sales\, visit the event website below.
URL:https://tintabulations.com/event/spirit-of-the-season-3/
LOCATION:Pioneer Center for the Performing Arts\, 100 S. Virginia St.\, Reno\, Nevada\, 89501
CATEGORIES:Appearances
END:VEVENT
BEGIN:VEVENT
DTSTART;VALUE=DATE:20230106
DTEND;VALUE=DATE:20230109
DTSTAMP:20260423T155330
CREATED:20220921T214046Z
LAST-MODIFIED:20220921T214046Z
UID:2107-1672963200-1673222399@tintabulations.com
SUMMARY:Twelfth Night Festival
DESCRIPTION:Join Tintab as we travel to Boulder City\, NV to attend the Twelfth Night Handbell Festival hosted by our sister choir\, Harmony Handbells. Early bird registration deadline is November 30\, 2022.
URL:https://tintabulations.com/event/twelfth-night-festival/
LOCATION:Boulder City Rec Center\, 900 Arizona Street\, Boulder City\, NV\, 89005\, United States
CATEGORIES:Appearances
END:VEVENT
BEGIN:VEVENT
DTSTART;VALUE=DATE:20221202
DTEND;VALUE=DATE:20221205
DTSTAMP:20260423T155330
CREATED:20220921T205213Z
LAST-MODIFIED:20220921T205504Z
UID:2084-1669939200-1670198399@tintabulations.com
SUMMARY:Spirit of the Season
DESCRIPTION:Tintabulations is one of the featured performing groups at the Reno Philharmonic’s annual holiday celebration\, “Spirit of the Season“. \n\nDecember 2 @ 7:00 pm\nDecember 3 @ 2:00 pm & @ 7:00 pm\nDecember 4 @ 2:00 pm\n\nFor ticket sales\, visit the event website below.
URL:https://tintabulations.com/event/spirit-of-the-season-2/
LOCATION:Pioneer Center for the Performing Arts\, 100 S. Virginia St.\, Reno\, Nevada\, 89501
CATEGORIES:Appearances
END:VEVENT
BEGIN:VEVENT
DTSTART;VALUE=DATE:20211203
DTEND;VALUE=DATE:20211206
DTSTAMP:20260423T155330
CREATED:20211103T221855Z
LAST-MODIFIED:20211103T223014Z
UID:1859-1638489600-1638748799@tintabulations.com
SUMMARY:Spirit of the Season
DESCRIPTION:Tintabulations is one of the featured performing groups at the Reno Philharmonic’s annual holiday celebration\, “Spirit of the Season“. \n\nDecember 3 @ 7:00 pm – 9:00 pm\nDecember 4 @ 2:00 pm – 4:00 pm\nDecember 4 @ 7:00 pm – 9:00 pm\nDecember 5 @ 2:00 pm – 4:00 pm\n\nFor ticket sales\, visit the event website below the video.
URL:https://tintabulations.com/event/spirit-of-the-season/
LOCATION:Pioneer Center for the Performing Arts\, 100 S. Virginia St.\, Reno\, Nevada\, 89501
CATEGORIES:Appearances
END:VEVENT
BEGIN:VEVENT
DTSTART;TZID=America/Los_Angeles:20191220T190000
DTEND;TZID=America/Los_Angeles:20191220T200000
DTSTAMP:20260423T155331
CREATED:20191030T191538Z
LAST-MODIFIED:20191030T191538Z
UID:1550-1576868400-1576872000@tintabulations.com
SUMMARY:Reno Pops Orchestra Appearance
DESCRIPTION:Come see Tintab perform with the Reno Pops Orchestra
URL:https://tintabulations.com/event/reno-pops-orchestra-appearance/
LOCATION:Nightingale Concert Hall\, 133 N. Virginia St\, Reno\, NV\, 89512\, United States
CATEGORIES:Appearances
END:VEVENT
BEGIN:VEVENT
DTSTART;TZID=America/Los_Angeles:20191208T140000
DTEND;TZID=America/Los_Angeles:20191208T160000
DTSTAMP:20260423T155331
CREATED:20191030T190030Z
LAST-MODIFIED:20191030T190030Z
UID:1533-1575813600-1575820800@tintabulations.com
SUMMARY:Spirit of the Season Appearance
DESCRIPTION:Watch Tintab as they join the Reno Philharmonic on their annual Spirit of the Season performance.
URL:https://tintabulations.com/event/spirit-of-the-season-appearance-4/
LOCATION:Pioneer Center for the Performing Arts\, 100 S. Virginia St.\, Reno\, Nevada\, 89501
CATEGORIES:Appearances
END:VEVENT
BEGIN:VEVENT
DTSTART;TZID=America/Los_Angeles:20191207T190000
DTEND;TZID=America/Los_Angeles:20191207T210000
DTSTAMP:20260423T155331
CREATED:20191030T185911Z
LAST-MODIFIED:20191030T185911Z
UID:1531-1575745200-1575752400@tintabulations.com
SUMMARY:Spirit of the Season Appearance
DESCRIPTION:Watch Tintab as they join the Reno Philharmonic on their annual Spirit of the Season performance.
URL:https://tintabulations.com/event/spirit-of-the-season-appearance-3/
LOCATION:Pioneer Center for the Performing Arts\, 100 S. Virginia St.\, Reno\, Nevada\, 89501
CATEGORIES:Appearances
END:VEVENT
BEGIN:VEVENT
DTSTART;TZID=America/Los_Angeles:20191207T140000
DTEND;TZID=America/Los_Angeles:20191207T160000
DTSTAMP:20260423T155331
CREATED:20191030T185755Z
LAST-MODIFIED:20191030T185755Z
UID:1529-1575727200-1575734400@tintabulations.com
SUMMARY:Spirit of the Season Appearance
DESCRIPTION:Watch Tintab as they join the Reno Philharmonic on their annual Spirit of the Season performance.
URL:https://tintabulations.com/event/spirit-of-the-season-appearance-2/
LOCATION:Pioneer Center for the Performing Arts\, 100 S. Virginia St.\, Reno\, Nevada\, 89501
CATEGORIES:Appearances
END:VEVENT
BEGIN:VEVENT
DTSTART;TZID=America/Los_Angeles:20191206T190000
DTEND;TZID=America/Los_Angeles:20191206T210000
DTSTAMP:20260423T155331
CREATED:20191030T185515Z
LAST-MODIFIED:20191030T185515Z
UID:1526-1575658800-1575666000@tintabulations.com
SUMMARY:Spirit of the Season Appearance
DESCRIPTION:Come see Tintab join the Reno Philharmonic at their annual Spirit of the Season performance
URL:https://tintabulations.com/event/spirit-of-the-season-appearance/
LOCATION:Pioneer Center for the Performing Arts\, 100 S. Virginia St.\, Reno\, Nevada\, 89501
CATEGORIES:Appearances
END:VEVENT
BEGIN:VEVENT
DTSTART;TZID=America/Los_Angeles:20181207T190000
DTEND;TZID=America/Los_Angeles:20181207T200000
DTSTAMP:20260423T155331
CREATED:20181010T225053Z
LAST-MODIFIED:20181011T172839Z
UID:1412-1544209200-1544212800@tintabulations.com
SUMMARY:Appearance - 39 North
DESCRIPTION:Come hear Tintab entertain guests at 39 North in Victorian Square
URL:https://tintabulations.com/event/appearance-39-north/
LOCATION:Victorian Square\, 764-794 Victorian Ave\, Sparks\, NV\, 89431\, United States
CATEGORIES:Appearances
END:VEVENT
BEGIN:VEVENT
DTSTART;TZID=America/Los_Angeles:20181202T140000
DTEND;TZID=America/Los_Angeles:20181202T160000
DTSTAMP:20260423T155331
CREATED:20181010T224204Z
LAST-MODIFIED:20181011T005800Z
UID:1408-1543759200-1543766400@tintabulations.com
SUMMARY:Appearance - Spirit of the Season
DESCRIPTION:Tintab will again be performing on the Reno Philharmonic’s Spirit of the Season concert! Tickets are available on the Pioneer Center’s website.
URL:https://tintabulations.com/event/appearance-spirit-of-the-season-3/
LOCATION:Pioneer Center for the Performing Arts\, 100 S. Virginia St.\, Reno\, Nevada\, 89501
CATEGORIES:Appearances
END:VEVENT
BEGIN:VEVENT
DTSTART;TZID=America/Los_Angeles:20181201T190000
DTEND;TZID=America/Los_Angeles:20181201T210000
DTSTAMP:20260423T155331
CREATED:20181010T224009Z
LAST-MODIFIED:20181011T005818Z
UID:1406-1543690800-1543698000@tintabulations.com
SUMMARY:Appearance - Spirit of the Season
DESCRIPTION:Tintab will be performing with the Reno Philharmonic on their Spirit of the Season concert again! Tickets are available on the Pioneer Center’s website.
URL:https://tintabulations.com/event/appearance-spirit-of-the-season-2/
LOCATION:Pioneer Center for the Performing Arts\, 100 S. Virginia St.\, Reno\, Nevada\, 89501
CATEGORIES:Appearances
END:VEVENT
BEGIN:VEVENT
DTSTART;TZID=America/Los_Angeles:20181201T140000
DTEND;TZID=America/Los_Angeles:20181201T160000
DTSTAMP:20260423T155331
CREATED:20181010T223624Z
LAST-MODIFIED:20181010T233008Z
UID:1402-1543672800-1543680000@tintabulations.com
SUMMARY:Appearance - Spirit of the Season
DESCRIPTION:Tintab will be appearing on the Reno Philharmonic’s Spirit of the Season concert again this year! Tickets available on the Pioneer Center’s website.
URL:https://tintabulations.com/event/appearance-spirit-of-the-season/
LOCATION:Pioneer Center for the Performing Arts\, 100 S. Virginia St.\, Reno\, Nevada\, 89501
CATEGORIES:Appearances
END:VEVENT
END:VCALENDAR