BEGIN:VCALENDAR
VERSION:2.0
PRODID:-//Tintabulations Handbell Ensemble - ECPv6.15.17.1//NONSGML v1.0//EN
CALSCALE:GREGORIAN
METHOD:PUBLISH
X-ORIGINAL-URL:https://tintabulations.com
X-WR-CALDESC:Events for Tintabulations Handbell Ensemble
REFRESH-INTERVAL;VALUE=DURATION:PT1H
X-Robots-Tag:noindex
X-PUBLISHED-TTL:PT1H
BEGIN:VTIMEZONE
TZID:America/Los_Angeles
BEGIN:DAYLIGHT
TZOFFSETFROM:-0800
TZOFFSETTO:-0700
TZNAME:PDT
DTSTART:20210314T100000
END:DAYLIGHT
BEGIN:STANDARD
TZOFFSETFROM:-0700
TZOFFSETTO:-0800
TZNAME:PST
DTSTART:20211107T090000
END:STANDARD
BEGIN:DAYLIGHT
TZOFFSETFROM:-0800
TZOFFSETTO:-0700
TZNAME:PDT
DTSTART:20220313T100000
END:DAYLIGHT
BEGIN:STANDARD
TZOFFSETFROM:-0700
TZOFFSETTO:-0800
TZNAME:PST
DTSTART:20221106T090000
END:STANDARD
BEGIN:DAYLIGHT
TZOFFSETFROM:-0800
TZOFFSETTO:-0700
TZNAME:PDT
DTSTART:20230312T100000
END:DAYLIGHT
BEGIN:STANDARD
TZOFFSETFROM:-0700
TZOFFSETTO:-0800
TZNAME:PST
DTSTART:20231105T090000
END:STANDARD
END:VTIMEZONE
BEGIN:VEVENT
DTSTART;TZID=America/Los_Angeles:20221218T190000
DTEND;TZID=America/Los_Angeles:20221218T190000
DTSTAMP:20260423T211852
CREATED:20220921T212715Z
LAST-MODIFIED:20221123T220754Z
UID:2102-1671390000-1671390000@tintabulations.com
SUMMARY:Sparks Concert
DESCRIPTION:Join Tintabulations for our Winter 2022 Concert Tour as we ring in the holiday season with classic carols\, seasonal hymns\, nostalgic pop tunes\, and quirky tales of holiday antics. Concerts are family-friendly; children are welcome! Free admission\, donations are cheerfully accepted.
URL:https://tintabulations.com/event/sparks-concert-2/
LOCATION:Sparks United Methodist Church\, 1231 Pyramid Way\, Sparks\, NV\, 89431\, United States
CATEGORIES:An (adj.) Ad Lib Christmas
END:VEVENT
BEGIN:VEVENT
DTSTART;TZID=America/Los_Angeles:20221218T140000
DTEND;TZID=America/Los_Angeles:20221218T140000
DTSTAMP:20260423T211852
CREATED:20221123T222349Z
LAST-MODIFIED:20221123T222349Z
UID:2119-1671372000-1671372000@tintabulations.com
SUMMARY:Reno Concert
DESCRIPTION:Join Tintabulations for our Winter 2022 Concert Tour as we ring in the holiday season with classic carols\, seasonal hymns\, nostalgic pop tunes\, and quirky tales of holiday antics. Concerts are family-friendly; children are welcome! Free admission\, donations are cheerfully accepted. \nThis performance will also be live streamed on the Tintabulations Handbell Ensemble YouTube page.
URL:https://tintabulations.com/event/reno-concert-5/
LOCATION:Good Luck Macbeth Theatre\, 124 Taylor St\, Reno\, NV\, 89509\, United States
CATEGORIES:An (adj.) Ad Lib Christmas
END:VEVENT
BEGIN:VEVENT
DTSTART;TZID=America/Los_Angeles:20221217T130000
DTEND;TZID=America/Los_Angeles:20221217T130000
DTSTAMP:20260423T211852
CREATED:20220921T212554Z
LAST-MODIFIED:20221123T223305Z
UID:2100-1671282000-1671282000@tintabulations.com
SUMMARY:Fallon Concert
DESCRIPTION:Join Tintabulations for our Winter 2022 Concert Tour as we ring in the holiday season with classic carols\, seasonal hymns\, nostalgic pop tunes\, and quirky tales of holiday antics. Concerts are family-friendly; children are welcome! Free admission\, donations are cheerfully accepted.
URL:https://tintabulations.com/event/fallon-concert/
LOCATION:Churchill County Museum\, 1050 S. Maine St\, Fallon\, NV\, 89406\, United States
CATEGORIES:An (adj.) Ad Lib Christmas
END:VEVENT
BEGIN:VEVENT
DTSTART;TZID=America/Los_Angeles:20221210T130000
DTEND;TZID=America/Los_Angeles:20221210T130000
DTSTAMP:20260423T211852
CREATED:20220921T211802Z
LAST-MODIFIED:20221123T223135Z
UID:2092-1670677200-1670677200@tintabulations.com
SUMMARY:Private Event
DESCRIPTION:This event is private\, sorry. Contact us if you are interested in booking Tintab for your corporate or private event.
URL:https://tintabulations.com/event/private-event-3/
LOCATION:NV
CATEGORIES:An (adj.) Ad Lib Christmas
END:VEVENT
BEGIN:VEVENT
DTSTART;TZID=America/Los_Angeles:20221204T190000
DTEND;TZID=America/Los_Angeles:20221204T190000
DTSTAMP:20260423T211852
CREATED:20220921T211529Z
LAST-MODIFIED:20221123T223111Z
UID:2090-1670180400-1670180400@tintabulations.com
SUMMARY:Reno Concert
DESCRIPTION:Join Tintabulations for our Winter 2022 Concert Tour as we ring in the holiday season with classic carols\, seasonal hymns\, nostalgic pop tunes\, and quirky tales of holiday antics. Concerts are family-friendly; children are welcome! Free admission\, donations are cheerfully accepted.
URL:https://tintabulations.com/event/reno-concert-4/
LOCATION:Lutheran Church of the Good Shepherd\, 357 Clay St\, Reno\, NV\, 89501\, United States
CATEGORIES:An (adj.) Ad Lib Christmas
END:VEVENT
END:VCALENDAR