BEGIN:VCALENDAR
VERSION:2.0
PRODID:-//Tintabulations Handbell Ensemble - ECPv6.15.17.1//NONSGML v1.0//EN
CALSCALE:GREGORIAN
METHOD:PUBLISH
X-WR-CALNAME:Tintabulations Handbell Ensemble
X-ORIGINAL-URL:https://tintabulations.com
X-WR-CALDESC:Events for Tintabulations Handbell Ensemble
REFRESH-INTERVAL;VALUE=DURATION:PT1H
X-Robots-Tag:noindex
X-PUBLISHED-TTL:PT1H
BEGIN:VTIMEZONE
TZID:America/Los_Angeles
BEGIN:DAYLIGHT
TZOFFSETFROM:-0800
TZOFFSETTO:-0700
TZNAME:PDT
DTSTART:20230312T100000
END:DAYLIGHT
BEGIN:STANDARD
TZOFFSETFROM:-0700
TZOFFSETTO:-0800
TZNAME:PST
DTSTART:20231105T090000
END:STANDARD
BEGIN:DAYLIGHT
TZOFFSETFROM:-0800
TZOFFSETTO:-0700
TZNAME:PDT
DTSTART:20240310T100000
END:DAYLIGHT
BEGIN:STANDARD
TZOFFSETFROM:-0700
TZOFFSETTO:-0800
TZNAME:PST
DTSTART:20241103T090000
END:STANDARD
BEGIN:DAYLIGHT
TZOFFSETFROM:-0800
TZOFFSETTO:-0700
TZNAME:PDT
DTSTART:20250309T100000
END:DAYLIGHT
BEGIN:STANDARD
TZOFFSETFROM:-0700
TZOFFSETTO:-0800
TZNAME:PST
DTSTART:20251102T090000
END:STANDARD
END:VTIMEZONE
BEGIN:VEVENT
DTSTART;TZID=America/Los_Angeles:20240702T093000
DTEND;TZID=America/Los_Angeles:20240702T100000
DTSTAMP:20260425T042238
CREATED:20240601T183556Z
LAST-MODIFIED:20240601T183556Z
UID:2536-1719912600-1719914400@tintabulations.com
SUMMARY:Discover Handbells Workshop
DESCRIPTION:ARTOWN DISCOVER THE ARTS: DISCOVER HANDBELLS\nDiscover the Arts is a free event hosted by Artown for kids ages 6-12\, held every weekday in July. Kids participate in a workshop or performance\, then complete an art project to take home! Each day’s activity is different and parents are welcome to observe. Discover the Arts is held on the McKinley lawn – bring a blanket or sit right on the grass! We will move inside McKinley in case of inclement weather. Bathrooms are available. ***Groups of 6 or more children can only be accommodated on certain days\, and only for the first half of the program. Please call (503) 310-3386 in advance if you would like to bring your group to Discover the Arts***
URL:https://tintabulations.com/event/discover-handbells-workshop/
LOCATION:McKinley Arts & Culture Center\, 925 Riverside Dr\, Reno\, NV\, 89503\, United States
CATEGORIES:3 Ring Circus
END:VEVENT
BEGIN:VEVENT
DTSTART;TZID=America/Los_Angeles:20240702T190000
DTEND;TZID=America/Los_Angeles:20240702T190000
DTSTAMP:20260425T042238
CREATED:20240601T183107Z
LAST-MODIFIED:20240610T213243Z
UID:2534-1719946800-1719946800@tintabulations.com
SUMMARY:Reno Concert & Livestream
DESCRIPTION:It’s a 3 Ring Circus!\nLadies and gentlemen\, boys and girls! Step right up and witness an astounding assemblage of handbell musicians execute the most delightful melodies on bronze bells and silver chimes! \nLed by Ringmaster Barb Walsh\, you won’t want to miss the fantastic feats of juggling multiple bells and chimes by Reno’s own Tintabulations Handbell Ensemble!   \nWitness the wondrous sight of flashing bronze bells combined with a menagerie of other instruments – violins and flutes and cellos and oboes and guitars\, oh my! \nMarvel at the magnificent sounds and sights the bell magicians and chime acrobats create as they delicately balance the many genres and textures while weaving their stories throughout the death defying show you won’t want to miss! \nAll performances are free of charge; donations are cheerfully accepted. \nThis concert will also be livestreamed at https://www.youtube.com/user/renofirstumc1246
URL:https://tintabulations.com/event/reno-concert-7/
LOCATION:First United Methodist Reno\, 209 W. First Street\, Reno\, NV\, 89501\, United States
CATEGORIES:3 Ring Circus
END:VEVENT
END:VCALENDAR